BEGIN:VCALENDAR
VERSION:2.0
PRODID:-//PYVOBJECT//NONSGML Version 1//EN
BEGIN:VEVENT
UID:18376:807
DTSTART:20120716T000000
DTEND:20120811T000000
DESCRIPTION:
DTSTAMP:20260425T141213Z
SUMMARY:Betriebsurlaub: 7 - 11.8.2012
END:VEVENT
END:VCALENDAR
